BEGIN:VCALENDAR
VERSION:2.0
PRODID:-//Hundezentrum Siegerland - ECPv6.10.3//NONSGML v1.0//EN
CALSCALE:GREGORIAN
METHOD:PUBLISH
X-ORIGINAL-URL:https://www.teamwaerts.com
X-WR-CALDESC:Veranstaltungen für Hundezentrum Siegerland
REFRESH-INTERVAL;VALUE=DURATION:PT1H
X-Robots-Tag:noindex
X-PUBLISHED-TTL:PT1H
BEGIN:VTIMEZONE
TZID:Europe/Helsinki
BEGIN:DAYLIGHT
TZOFFSETFROM:+0200
TZOFFSETTO:+0300
TZNAME:EEST
DTSTART:20250330T010000
END:DAYLIGHT
BEGIN:STANDARD
TZOFFSETFROM:+0300
TZOFFSETTO:+0200
TZNAME:EET
DTSTART:20251026T010000
END:STANDARD
END:VTIMEZONE
BEGIN:VEVENT
DTSTART;TZID=Europe/Helsinki:20250415T100000
DTEND;TZID=Europe/Helsinki:20250415T140000
DTSTAMP:20260424T213735
CREATED:20250227T143915Z
LAST-MODIFIED:20250227T103553Z
UID:12926-1744711200-1744725600@www.teamwaerts.com
SUMMARY:Kind und Hund
DESCRIPTION:Viele Hunde leben in einer Familie mit Kindern. Für diese sind sie oft „nur“ Spielkameraden oder Kuscheltiere. Beides ist für unsere vierbeinigen Freunde oft nicht ganz leicht. \nWie Kinder mit ihren Hunden sicher umgehen lernen und auch ganz tolle gemeinsame Zeit verbringen können\, zeigt dieser Worhshop! Die Kinder dürfen dort mit ihren Hunden trainieren und können so das richtige Handling lernen. Der Spaßfaktor soll dabei auch nicht zu kurz kommen.  \nMit Anke und Franzi\n \nPreis: 60 Euro\n \nZur Anmeldung. \nDrucken
URL:https://www.teamwaerts.com/event/kind-und-hund-3/
END:VEVENT
END:VCALENDAR