BEGIN:VCALENDAR
VERSION:2.0
PRODID:-//Hundezentrum Siegerland - ECPv6.10.3//NONSGML v1.0//EN
CALSCALE:GREGORIAN
METHOD:PUBLISH
X-WR-CALNAME:Hundezentrum Siegerland
X-ORIGINAL-URL:https://www.teamwaerts.com
X-WR-CALDESC:Veranstaltungen für Hundezentrum Siegerland
REFRESH-INTERVAL;VALUE=DURATION:PT1H
X-Robots-Tag:noindex
X-PUBLISHED-TTL:PT1H
BEGIN:VTIMEZONE
TZID:Europe/Berlin
BEGIN:DAYLIGHT
TZOFFSETFROM:+0100
TZOFFSETTO:+0200
TZNAME:CEST
DTSTART:20250330T010000
END:DAYLIGHT
BEGIN:STANDARD
TZOFFSETFROM:+0200
TZOFFSETTO:+0100
TZNAME:CET
DTSTART:20251026T010000
END:STANDARD
END:VTIMEZONE
BEGIN:VEVENT
DTSTART;TZID=Europe/Berlin:20250828T180000
DTEND;TZID=Europe/Berlin:20250828T200000
DTSTAMP:20260424T151223
CREATED:20250523T153433Z
LAST-MODIFIED:20250523T153847Z
UID:13578-1756404000-1756411200@www.teamwaerts.com
SUMMARY:Kommunikationsworkshop Teil 2
DESCRIPTION:Ein ganz spannender lehrreicher Workshop in zwei Teilen mit Uschi und Barbara \nNatürlich geht es hier nicht darum\, wie man am Besten verbal mit seinem Hund spricht… und auch nicht wie man telepathisch mit seinem Hund Kontakt aufnehmen kann… \nMit Hunden sprechen ist ein unglaublich spannendes Seminar\, in dem es um Körpersprache von Mensch und Hund geht! Verschiedene lustige\, ausgefallene und auch alltägliche Situationen werden gestellt. \nDie Kommunikation Mensch-Mensch\, Hund-Hund und Mensch-Hund werden in diesem Zweierblock durchleuchtet. Viele waren sehr überrascht und entdeckten Dinge an ihrem Hund\, die bisher nie aufgefallen waren! Auch Sie werden erstaunt sein\, was Sie alles über sich und Ihren Hund lernen können! \nLernen Sie hündisch – Melden Sie Ihr Team bei Uschi an und erleben Sie einen Workshop der etwas anderen Art! \nPreis: 40 Euro \nDrucken
URL:https://www.teamwaerts.com/event/kommunikationsworkshop-2-2/
END:VEVENT
END:VCALENDAR