BEGIN:VCALENDAR
VERSION:2.0
PRODID:-//Hundezentrum Siegerland - ECPv6.10.3//NONSGML v1.0//EN
CALSCALE:GREGORIAN
METHOD:PUBLISH
X-ORIGINAL-URL:https://www.teamwaerts.com
X-WR-CALDESC:Veranstaltungen für Hundezentrum Siegerland
REFRESH-INTERVAL;VALUE=DURATION:PT1H
X-Robots-Tag:noindex
X-PUBLISHED-TTL:PT1H
BEGIN:VTIMEZONE
TZID:Europe/Helsinki
BEGIN:DAYLIGHT
TZOFFSETFROM:+0200
TZOFFSETTO:+0300
TZNAME:EEST
DTSTART:20260329T010000
END:DAYLIGHT
BEGIN:STANDARD
TZOFFSETFROM:+0300
TZOFFSETTO:+0200
TZNAME:EET
DTSTART:20261025T010000
END:STANDARD
END:VTIMEZONE
BEGIN:VEVENT
DTSTART;TZID=Europe/Helsinki:20260207T100000
DTEND;TZID=Europe/Helsinki:20260207T140000
DTSTAMP:20260420T132754
CREATED:20251219T051218Z
LAST-MODIFIED:20251221T193042Z
UID:12812-1770458400-1770472800@www.teamwaerts.com
SUMMARY:Trick und Click
DESCRIPTION:Clickertraining zum Aufbau von nützlichen oder auch einfach nur lustigen Tricks. \nDann hat es CLICK gemacht … Manchem mag es komisch vorkommen\, wenn jemand lieber auf einen Clicker drückt\, statt mit seinem geliebten Vierbeiner zu sprechen. ABER – das neutrale CLICK hat gegenüber unserer oft schwankenden Stimme große Vorteile und setzt sich deshalb in der Hundeerziehung vermehrt durch. Gerade beim Einüben von Tricks hilft uns der Clicker\, so punktgenau zu bestätigen\, dass unsere Fellnase viel schneller begreift\, was wir eigentlich von ihr wollen. So können tolle Tricks aufgebaut und erlernt werden. Das Tolle dabei ist\, dass wir mittels des Clickers ausschließlich auf positive Weise mit unserem Hund kommunizieren.  \n„Trick und Click“ garantiert viel Spaß für Mensch und Hund! \n  \nKosten: 60 Euro Workshop \nAnmeldung bei Uschi \nDrucken
URL:https://www.teamwaerts.com/event/click-den-trick/
END:VEVENT
END:VCALENDAR