BEGIN:VCALENDAR
VERSION:2.0
PRODID:-//Hundezentrum Siegerland - ECPv6.10.3//NONSGML v1.0//EN
CALSCALE:GREGORIAN
METHOD:PUBLISH
X-ORIGINAL-URL:https://www.teamwaerts.com
X-WR-CALDESC:Veranstaltungen für Hundezentrum Siegerland
REFRESH-INTERVAL;VALUE=DURATION:PT1H
X-Robots-Tag:noindex
X-PUBLISHED-TTL:PT1H
BEGIN:VTIMEZONE
TZID:Europe/Berlin
BEGIN:DAYLIGHT
TZOFFSETFROM:+0100
TZOFFSETTO:+0200
TZNAME:CEST
DTSTART:20260329T010000
END:DAYLIGHT
BEGIN:STANDARD
TZOFFSETFROM:+0200
TZOFFSETTO:+0100
TZNAME:CET
DTSTART:20261025T010000
END:STANDARD
END:VTIMEZONE
BEGIN:VEVENT
DTSTART;TZID=Europe/Berlin:20260321T100000
DTEND;TZID=Europe/Berlin:20260321T140000
DTSTAMP:20260420T103741
CREATED:20251221T194029Z
LAST-MODIFIED:20251221T194029Z
UID:13641-1774087200-1774101600@www.teamwaerts.com
SUMMARY:Ist es wirklich Trennungsangst?
DESCRIPTION:Nähere Infos zu diesem Workshop bitte bei Barbara erfragen. \nDrucken
URL:https://www.teamwaerts.com/event/ist-es-wirklich-trennungsangst/
END:VEVENT
END:VCALENDAR