BEGIN:VCALENDAR
VERSION:2.0
PRODID:-//Hundezentrum Siegerland - ECPv6.10.3//NONSGML v1.0//EN
CALSCALE:GREGORIAN
METHOD:PUBLISH
X-WR-CALNAME:Hundezentrum Siegerland
X-ORIGINAL-URL:https://www.teamwaerts.com
X-WR-CALDESC:Veranstaltungen für Hundezentrum Siegerland
REFRESH-INTERVAL;VALUE=DURATION:PT1H
X-Robots-Tag:noindex
X-PUBLISHED-TTL:PT1H
BEGIN:VTIMEZONE
TZID:Europe/Helsinki
BEGIN:DAYLIGHT
TZOFFSETFROM:+0200
TZOFFSETTO:+0300
TZNAME:EEST
DTSTART:20250330T010000
END:DAYLIGHT
BEGIN:STANDARD
TZOFFSETFROM:+0300
TZOFFSETTO:+0200
TZNAME:EET
DTSTART:20251026T010000
END:STANDARD
END:VTIMEZONE
BEGIN:VTIMEZONE
TZID:Europe/Berlin
BEGIN:DAYLIGHT
TZOFFSETFROM:+0100
TZOFFSETTO:+0200
TZNAME:CEST
DTSTART:20250330T010000
END:DAYLIGHT
BEGIN:STANDARD
TZOFFSETFROM:+0200
TZOFFSETTO:+0100
TZNAME:CET
DTSTART:20251026T010000
END:STANDARD
END:VTIMEZONE
BEGIN:VEVENT
DTSTART;TZID=Europe/Helsinki:20250823T100000
DTEND;TZID=Europe/Helsinki:20250823T140000
DTSTAMP:20260424T134153
CREATED:20250523T153452Z
LAST-MODIFIED:20250523T153944Z
UID:12599-1755943200-1755957600@www.teamwaerts.com
SUMMARY:Kommunikationsworkshop Teil 1
DESCRIPTION:Ein ganz spannender lehrreicher Workshop in zwei Teilen mit Uschi und Barbara \nNatürlich geht es hier nicht darum\, wie man am Besten verbal mit seinem Hund spricht… und auch nicht wie man telepathisch mit seinem Hund Kontakt aufnehmen kann… \nMit Hunden sprechen ist ein unglaublich spannendes Seminar\, in dem es um Körpersprache von Mensch und Hund geht! Verschiedene lustige\, ausgefallene und auch alltägliche Situationen werden gestellt. \nDie Kommunikation Mensch-Mensch\, Hund-Hund und Mensch-Hund werden in diesem Zweierblock durchleuchtet. Viele waren sehr überrascht und entdeckten Dinge an ihrem Hund\, die bisher nie aufgefallen waren! Auch Sie werden erstaunt sein\, was Sie alles über sich und Ihren Hund lernen können! \nLernen Sie hündisch – Melden Sie Ihr Team bei Uschi an und erleben Sie einen Workshop der etwas anderen Art! \nPreis: 60 Euro \nDrucken
URL:https://www.teamwaerts.com/event/kommunikationsworkshop-3/
LOCATION:HzS
ORGANIZER;CN="Uschi":MAILTO:info@teamwaerts.com
END:VEVENT
BEGIN:VEVENT
DTSTART;TZID=Europe/Berlin:20250828T180000
DTEND;TZID=Europe/Berlin:20250828T200000
DTSTAMP:20260424T134153
CREATED:20250523T153433Z
LAST-MODIFIED:20250523T153847Z
UID:13578-1756404000-1756411200@www.teamwaerts.com
SUMMARY:Kommunikationsworkshop Teil 2
DESCRIPTION:Ein ganz spannender lehrreicher Workshop in zwei Teilen mit Uschi und Barbara \nNatürlich geht es hier nicht darum\, wie man am Besten verbal mit seinem Hund spricht… und auch nicht wie man telepathisch mit seinem Hund Kontakt aufnehmen kann… \nMit Hunden sprechen ist ein unglaublich spannendes Seminar\, in dem es um Körpersprache von Mensch und Hund geht! Verschiedene lustige\, ausgefallene und auch alltägliche Situationen werden gestellt. \nDie Kommunikation Mensch-Mensch\, Hund-Hund und Mensch-Hund werden in diesem Zweierblock durchleuchtet. Viele waren sehr überrascht und entdeckten Dinge an ihrem Hund\, die bisher nie aufgefallen waren! Auch Sie werden erstaunt sein\, was Sie alles über sich und Ihren Hund lernen können! \nLernen Sie hündisch – Melden Sie Ihr Team bei Uschi an und erleben Sie einen Workshop der etwas anderen Art! \nPreis: 40 Euro \nDrucken
URL:https://www.teamwaerts.com/event/kommunikationsworkshop-2-2/
END:VEVENT
BEGIN:VEVENT
DTSTART;TZID=Europe/Helsinki:20250830T090000
DTEND;TZID=Europe/Helsinki:20250831T160000
DTSTAMP:20260424T134153
CREATED:20250123T111756Z
LAST-MODIFIED:20250516T081348Z
UID:12695-1756544400-1756656000@www.teamwaerts.com
SUMMARY:"Wünsch-Dir-was" mit Roland Schmitz
DESCRIPTION:„Wünsch Dir was“ mit Roland Schmitz\nWie immer wird sich Roland mit allen großen und kleinen Problemen des MenschHund-Alltags beschäftigen und Lösungen anbieten. Jede/r darf einen Wunsch äußern\, was trainiert werden soll. Alle anderen sind natürlich wichtige Statisten\, die dabei ganz viel lernen und vielleicht schon ein Problem beheben lernen\, bevor es überhaupt entsteht. \nAnmeldung bei Uschi. \nPreis: 155 Euro \nDrucken
URL:https://www.teamwaerts.com/event/wuensch-dir-was-mit-roland-schmitz-2/
END:VEVENT
BEGIN:VEVENT
DTSTART;TZID=Europe/Helsinki:20250830T100000
DTEND;TZID=Europe/Helsinki:20250831T170000
DTSTAMP:20260424T134153
CREATED:20241103T114015Z
LAST-MODIFIED:20250123T115355Z
UID:13356-1756548000-1756659600@www.teamwaerts.com
SUMMARY:"Konzeptlernen" mit Katrin Heimsath
DESCRIPTION:Konzeptlernen ist Denksport für unsere Vierbeiner (und auch für deren Menschen!) Ein spannendes Thema für Mensch und Hund. \nKatrin wird uns zeigen\, dass Hunde Vergleichs- und Unterscheidungsaufgaben erlernen können. \nKonzeptlernen ist eine geniale geistige Auslastungsmethode\, die zudem noch wohnzimmertauglich ist. \nDieses Seminar ist etwas für etwas ältere Hunde\, die schon einiges gelernt haben. Die Hunde sollen beispielsweise aus einer bunten Mischung von Spielsachen das blaue Teil anzeigen\, wenn ihnen vom Menschen ein blauer Ball gezeigt wird. Hier lassen sich ungeheuer viele Auslastungsmodelle entwickeln. Eine tolle Beschäftigung\, die auch die klügsten Hunde herausfordert ( und ihre Menschen vielleicht auch). \n  \nKosten: \nAktiv (mit Hund):      225 € \nPassiv (ohne Hund):  110 € \nAnmeldung bei Uschi \nDrucken
URL:https://www.teamwaerts.com/event/konzeptlernen-mit-katrin-heimsath/
END:VEVENT
END:VCALENDAR