BEGIN:VCALENDAR
VERSION:2.0
PRODID:-//Hundezentrum Siegerland - ECPv6.10.3//NONSGML v1.0//EN
CALSCALE:GREGORIAN
METHOD:PUBLISH
X-ORIGINAL-URL:https://www.teamwaerts.com
X-WR-CALDESC:Veranstaltungen für Hundezentrum Siegerland
REFRESH-INTERVAL;VALUE=DURATION:PT1H
X-Robots-Tag:noindex
X-PUBLISHED-TTL:PT1H
BEGIN:VTIMEZONE
TZID:Europe/Helsinki
BEGIN:DAYLIGHT
TZOFFSETFROM:+0200
TZOFFSETTO:+0300
TZNAME:EEST
DTSTART:20260329T010000
END:DAYLIGHT
BEGIN:STANDARD
TZOFFSETFROM:+0300
TZOFFSETTO:+0200
TZNAME:EET
DTSTART:20261025T010000
END:STANDARD
END:VTIMEZONE
BEGIN:VEVENT
DTSTART;TZID=Europe/Helsinki:20260117T190000
DTEND;TZID=Europe/Helsinki:20260117T190000
DTSTAMP:20260420T134539
CREATED:20251220T140226Z
LAST-MODIFIED:20251221T192844Z
UID:12605-1768676400-1768676400@www.teamwaerts.com
SUMMARY:Besuchshundeseminar - NEU
DESCRIPTION:Besuchshunde erhalten inzwischen zunehmend größere Bedeutung in unserer Gesellschaft\, da viele erkannt haben\, wie sehr ein Tier uns Menschen gut tun kann. Wir bieten bereits seit Langem spezielle Seminare zur Ausbildung eines Besuchshundes an. \nFür die neue Besuchshunde-Gruppe beginnt nun die Ausbildung am  17.01.2026. Der Zweite Termin des Block I findet  am  \n24.01.2026 statt \nZu Beginn wird auch eine Eignungsprüfung stattfinden. \nAusführliche Informationen zu unserer Besuchshundeausbildung entnehmen Sie bitte der entsprechenden Seite zu Besuchshunden.  \nWeitere Termine werden noch bekanntgegeben. \nBei Interesse an unseren Besuchshundeseminaren wenden Sie sich bitte direkt per Mail an Uschi. \nDrucken
URL:https://www.teamwaerts.com/event/besuchshundeseminar-neu/
LOCATION:HzS
ORGANIZER;CN="Uschi":MAILTO:info@teamwaerts.com
END:VEVENT
END:VCALENDAR